BEGIN:VCALENDAR
VERSION:2.0
PRODID:-//UK Ports - ECPv6.9.0//NONSGML v1.0//EN
CALSCALE:GREGORIAN
METHOD:PUBLISH
X-ORIGINAL-URL:https://uk-ports.org
X-WR-CALDESC:Events for UK Ports
REFRESH-INTERVAL;VALUE=DURATION:PT1H
X-Robots-Tag:noindex
X-PUBLISHED-TTL:PT1H
BEGIN:VTIMEZONE
TZID:UTC
BEGIN:STANDARD
TZOFFSETFROM:+0000
TZOFFSETTO:+0000
TZNAME:UTC
DTSTART:20200101T000000
END:STANDARD
END:VTIMEZONE
BEGIN:VEVENT
DTSTART;TZID=UTC:20210126T100000
DTEND;TZID=UTC:20210126T120000
DTSTAMP:20260421T201706
CREATED:20210125T141823Z
LAST-MODIFIED:20210125T141823Z
UID:16534-1611655200-1611662400@uk-ports.org
SUMMARY:Blue Data Conference 2021
DESCRIPTION:About the conference\nAt this critical time for our global seas and oceans\, the Blue Data Conference brings together leading experts in ocean science\, marine data and the blue economy to explore the transformative power of blue data. Together\, we seek to address some of the defining questions for our ocean industries and for the marine environment. \nAddressing the big questions\nWe bring together opinion leaders from the global marine community to share their insight and expertise on the key challenges facing us all\, address key questions when it comes to our oceans\, and find effective solutions together. \nThe blue economic opportunity\nHow do we unlock the vast potential of the blue economy?\nDiscover how the blue economy has the potential to change millions of lives around the world\, how it could unlock trillions of dollars of sustainable economic value\, and how we can realise these benefits. \nData and sustainable development\nHow do we harness the power of the oceans to reach our sustainable development goals? \nHear from experts who are setting the agenda on the sustainable management of our ocean resources and find out how data and partnerships are transforming our relationship with our oceans for the better. \nThe future of navigation\nHow will shipping’s digital revolution shape the next era of navigation technologies?\nFind out how shipping’s digital and data transformation is redefining the future of navigation\, from the bridge to the boardroom. From driving safety standards and unlocking new efficiencies\, to supporting the advance of autonomous shipping.
URL:https://uk-ports.org/port-event/blue-data-conference-2021-2/
END:VEVENT
BEGIN:VEVENT
DTSTART;TZID=UTC:20210126T100000
DTEND;TZID=UTC:20210126T120000
DTSTAMP:20260421T201706
CREATED:20210125T141823Z
LAST-MODIFIED:20210125T141823Z
UID:16258-1611655200-1611662400@uk-ports.org
SUMMARY:Blue Data Conference 2021
DESCRIPTION:About the conference\nAt this critical time for our global seas and oceans\, the Blue Data Conference brings together leading experts in ocean science\, marine data and the blue economy to explore the transformative power of blue data. Together\, we seek to address some of the defining questions for our ocean industries and for the marine environment. \nAddressing the big questions\nWe bring together opinion leaders from the global marine community to share their insight and expertise on the key challenges facing us all\, address key questions when it comes to our oceans\, and find effective solutions together. \nThe blue economic opportunity\nHow do we unlock the vast potential of the blue economy?\nDiscover how the blue economy has the potential to change millions of lives around the world\, how it could unlock trillions of dollars of sustainable economic value\, and how we can realise these benefits. \nData and sustainable development\nHow do we harness the power of the oceans to reach our sustainable development goals? \nHear from experts who are setting the agenda on the sustainable management of our ocean resources and find out how data and partnerships are transforming our relationship with our oceans for the better. \nThe future of navigation\nHow will shipping’s digital revolution shape the next era of navigation technologies?\nFind out how shipping’s digital and data transformation is redefining the future of navigation\, from the bridge to the boardroom. From driving safety standards and unlocking new efficiencies\, to supporting the advance of autonomous shipping.
URL:https://uk-ports.org/port-event/blue-data-conference-2021/
END:VEVENT
BEGIN:VEVENT
DTSTART;TZID=UTC:20210126T100000
DTEND;TZID=UTC:20210126T120000
DTSTAMP:20260421T201706
CREATED:20210120T140842Z
LAST-MODIFIED:20210120T140842Z
UID:16531-1611655200-1611662400@uk-ports.org
SUMMARY:UKHO Blue Data Conference 2021
DESCRIPTION:Final speaker line up announced: UKHO Blue Data Conference 2021\nGood  Day All \nAs part of our on-going policy in bringing as many relevant on-line webinars and presentations to members in lieu of our regular live events please find further details and information below; \nThe UKHO Blue Data Conference 2021\, will take place virtually on Tuesday 26 January 2021\, 10:00 – 12:00 GMT\, bringing together industry leaders and UKHO experts across a series of presentations and panels.\nThe final speaker line up has now been announced and is available to view on our website: \n\n\n\nView full speaker line up\n\n\n\nCloser to the event date we will send you details on how to access the virtual conference. \n\n\n\nAdd to Calendar\n\n\n\nWe look forward to welcoming you to our first virtual Blue Data Conference 2021.\nJoin the conversation on Twitter\, Facebook and LinkedIn by using the hashtag #MarineQuestions. \nIf you have any enquiries about the event\, please get in touch.\nKind regards\,\nUK Hydrographic Office\nevents@ukho.gov.uk \nI hope the above may be of interest to our members.\nKind Regards\nMartin \nMartin Willis AFNI\nExecutive Officer & Secretary\nUK Harbour Masters’ Association                     \nTel: 07821170488\nE-mail: xo@ukhma.org\nAddress – PO Box 312\, Morpeth\, NE 61 9GN
URL:https://uk-ports.org/port-event/ukho-blue-data-conference-2021-2/
END:VEVENT
BEGIN:VEVENT
DTSTART;TZID=UTC:20210126T100000
DTEND;TZID=UTC:20210126T120000
DTSTAMP:20260421T201706
CREATED:20210120T140842Z
LAST-MODIFIED:20210120T140842Z
UID:16122-1611655200-1611662400@uk-ports.org
SUMMARY:UKHO Blue Data Conference 2021
DESCRIPTION:Final speaker line up announced: UKHO Blue Data Conference 2021\nGood  Day All \nAs part of our on-going policy in bringing as many relevant on-line webinars and presentations to members in lieu of our regular live events please find further details and information below; \nThe UKHO Blue Data Conference 2021\, will take place virtually on Tuesday 26 January 2021\, 10:00 – 12:00 GMT\, bringing together industry leaders and UKHO experts across a series of presentations and panels.\nThe final speaker line up has now been announced and is available to view on our website: \n\n\n\nView full speaker line up\n\n\n\nCloser to the event date we will send you details on how to access the virtual conference. \n\n\n\nAdd to Calendar\n\n\n\nWe look forward to welcoming you to our first virtual Blue Data Conference 2021.\nJoin the conversation on Twitter\, Facebook and LinkedIn by using the hashtag #MarineQuestions. \nIf you have any enquiries about the event\, please get in touch.\nKind regards\,\nUK Hydrographic Office\nevents@ukho.gov.uk \nI hope the above may be of interest to our members.\nKind Regards\nMartin \nMartin Willis AFNI\nExecutive Officer & Secretary\nUK Harbour Masters’ Association                     \nTel: 07821170488\nE-mail: xo@ukhma.org\nAddress – PO Box 312\, Morpeth\, NE 61 9GN
URL:https://uk-ports.org/port-event/ukho-blue-data-conference-2021/
END:VEVENT
BEGIN:VEVENT
DTSTART;VALUE=DATE:20201214
DTEND;VALUE=DATE:20201220
DTSTAMP:20260421T201706
CREATED:20201214T111822Z
LAST-MODIFIED:20201214T113021Z
UID:15207-1607904000-1608422399@uk-ports.org
SUMMARY:TEST EVENT
DESCRIPTION:Donec vitae augue sed est aliquam auctor ac a magna. Aenean a quam id velit dignissim blandit. Fusce in sollicitudin urna. Phasellus sed tortor sed quam sodales porttitor eget nec purus. Nulla in mi sagittis\, condimentum erat id\, tempor risus. Cras vehicula consectetur nisi\, quis commodo massa sollicitudin in. Ut luctus velit quis turpis volutpat ullamcorper ut et elit. Maecenas faucibus ante tincidunt ligula rhoncus\, eu fermentum velit vestibulum. Morbi sit amet interdum neque. Nullam fringilla arcu sed elit varius\, id faucibus sapien eleifend. Morbi orci nunc\, volutpat nec scelerisque eget\, aliquam quis justo.
URL:https://uk-ports.org/port-event/test-event/
LOCATION:Bazzoo\, 18 Church Street\, Newark\, NG22 6PD\, United Kingdom
CATEGORIES:Test Category
ORGANIZER;CN="Bazzoo":MAILTO:studio@bazzoo.co.uk
END:VEVENT
BEGIN:VEVENT
DTSTART;VALUE=DATE:20201214
DTEND;VALUE=DATE:20201220
DTSTAMP:20260421T201706
CREATED:20201214T111822Z
LAST-MODIFIED:20201214T111822Z
UID:16530-1607904000-1608422399@uk-ports.org
SUMMARY:TEST EVENT
DESCRIPTION:Donec vitae augue sed est aliquam auctor ac a magna. Aenean a quam id velit dignissim blandit. Fusce in sollicitudin urna. Phasellus sed tortor sed quam sodales porttitor eget nec purus. Nulla in mi sagittis\, condimentum erat id\, tempor risus. Cras vehicula consectetur nisi\, quis commodo massa sollicitudin in. Ut luctus velit quis turpis volutpat ullamcorper ut et elit. Maecenas faucibus ante tincidunt ligula rhoncus\, eu fermentum velit vestibulum. Morbi sit amet interdum neque. Nullam fringilla arcu sed elit varius\, id faucibus sapien eleifend. Morbi orci nunc\, volutpat nec scelerisque eget\, aliquam quis justo.
URL:https://uk-ports.org/port-event/test-event-2/
LOCATION:Bazzoo\, 18 Church Street\, Newark\, NG22 6PD\, United Kingdom
CATEGORIES:Test Category
ORGANIZER;CN="Bazzoo":MAILTO:studio@bazzoo.co.uk
END:VEVENT
END:VCALENDAR